<?xml version="1.0" encoding="UTF-8"?>
<Capabilities xmlns="http://www.opengis.net/wmts/1.0"
xmlns:ows="http://www.opengis.net/ows/1.1"
xmlns:xlink="http://www.w3.org/1999/xlink"
xmlns:xsi="http://www.w3.org/2001/XMLSchema-instance"
xmlns:gml="http://www.opengis.net/gml"
xsi:schemaLocation="http://www.opengis.net/wmts/1.0 http://schemas.opengis.net/wmts/1.0/wmtsGetCapabilities_response.xsd"
version="1.0.0">
<!-- Service Identification --> <ows:ServiceIdentification>
<ows:Title>aerialImagery_2026_SP</ows:Title>
<ows:ServiceType>OGC WMTS</ows:ServiceType>
<ows:ServiceTypeVersion>1.0.0</ows:ServiceTypeVersion>
</ows:ServiceIdentification> <!-- Operations Metadata --> <ows:OperationsMetadata>
<ows:Operation name="GetCapabilities">
<ows:DCP>
<ows:HTTP>
<ows:Get xlink:href="https://madison.rexburg.org/mrgis/rest/services/aerialImagery/2026_SP/MapServer/WMTS/1.0.0/WMTSCapabilities.xml">
<ows:Constraint name="GetEncoding">
<ows:AllowedValues>
<ows:Value>RESTful</ows:Value>
</ows:AllowedValues>
</ows:Constraint>
</ows:Get>
<!-- add KVP binding in 10.1 -->
<ows:Get xlink:href="https://madison.rexburg.org/mrgis/rest/services/aerialImagery/2026_SP/MapServer/WMTS?">
<ows:Constraint name="GetEncoding">
<ows:AllowedValues>
<ows:Value>KVP</ows:Value>
</ows:AllowedValues>
</ows:Constraint>
</ows:Get>
</ows:HTTP>
</ows:DCP>
</ows:Operation>
<ows:Operation name="GetTile">
<ows:DCP>
<ows:HTTP>
<ows:Get xlink:href="https://madison.rexburg.org/mrgis/rest/services/aerialImagery/2026_SP/MapServer/WMTS/tile/1.0.0/">
<ows:Constraint name="GetEncoding">
<ows:AllowedValues>
<ows:Value>RESTful</ows:Value>
</ows:AllowedValues>
</ows:Constraint>
</ows:Get>
<ows:Get xlink:href="https://madison.rexburg.org/mrgis/rest/services/aerialImagery/2026_SP/MapServer/WMTS?">
<ows:Constraint name="GetEncoding">
<ows:AllowedValues>
<ows:Value>KVP</ows:Value>
</ows:AllowedValues>
</ows:Constraint>
</ows:Get>
</ows:HTTP>
</ows:DCP>
</ows:Operation>
</ows:OperationsMetadata> <Contents>
<!--Layer--> <Layer>
<ows:Title>aerialImagery_2026_SP</ows:Title> <ows:Identifier>aerialImagery_2026_SP</ows:Identifier>
<ows:BoundingBox crs="urn:ogc:def:crs:EPSG::6451">
<ows:LowerCorner>702503.9999789111 725472.0000324026</ows:LowerCorner>
<ows:UpperCorner>855623.9995125793 825791.9998513237</ows:UpperCorner>
</ows:BoundingBox> <ows:WGS84BoundingBox crs="urn:ogc:def:crs:OGC:2:84">
<ows:LowerCorner>-111.99158282565308 43.654859084512914</ows:LowerCorner>
<ows:UpperCorner>-111.40954838420795 43.932428136236226</ows:UpperCorner>
</ows:WGS84BoundingBox>
<Style isDefault="true">
<ows:Title>Default Style</ows:Title>
<ows:Identifier>default</ows:Identifier>
</Style>
<Format>image/jpgpng</Format>
<TileMatrixSetLink>
<TileMatrixSet>default028mm</TileMatrixSet>
</TileMatrixSetLink>
<ResourceURL format="image/jpgpng" resourceType="tile" template="https://madison.rexburg.org/mrgis/rest/services/aerialImagery/2026_SP/MapServer/WMTS/tile/1.0.0/aerialImagery_2026_SP/{Style}/{TileMatrixSet}/{TileMatrix}/{TileRow}/{TileCol}" />
</Layer> <!--TileMatrixSet-->
<TileMatrixSet>
<ows:Title>TileMatrix using 0.28mm</ows:Title>
<ows:Abstract>The tile matrix set that has scale values calculated based on the dpi defined by OGC specification (dpi assumes 0.28mm as the physical distance of a pixel).</ows:Abstract> <ows:Identifier>default028mm</ows:Identifier>
<ows:SupportedCRS>urn:ogc:def:crs:EPSG::6451</ows:SupportedCRS>
<TileMatrix>
<ows:Identifier>0</ows:Identifier>
<ScaleDenominator>2.790579885596503E8</ScaleDenominator>
<TopLeftCorner>-3.2156885521989845E7 1.7674071129764907E7</TopLeftCorner> <TileWidth>256</TileWidth> <TileHeight>256</TileHeight>
<MatrixWidth>1</MatrixWidth> <MatrixHeight>1</MatrixHeight>
</TileMatrix>
<TileMatrix>
<ows:Identifier>1</ows:Identifier>
<ScaleDenominator>1.3952899427982515E8</ScaleDenominator>
<TopLeftCorner>-3.2156885521989845E7 1.7674071129764907E7</TopLeftCorner> <TileWidth>256</TileWidth> <TileHeight>256</TileHeight>
<MatrixWidth>2</MatrixWidth> <MatrixHeight>1</MatrixHeight>
</TileMatrix>
<TileMatrix>
<ows:Identifier>2</ows:Identifier>
<ScaleDenominator>6.976449713991258E7</ScaleDenominator>
<TopLeftCorner>-3.2156885521989845E7 1.7674071129764907E7</TopLeftCorner> <TileWidth>256</TileWidth> <TileHeight>256</TileHeight>
<MatrixWidth>3</MatrixWidth> <MatrixHeight>2</MatrixHeight>
</TileMatrix>
<TileMatrix>
<ows:Identifier>3</ows:Identifier>
<ScaleDenominator>3.488224856995629E7</ScaleDenominator>
<TopLeftCorner>-3.2156885521989845E7 1.7674071129764907E7</TopLeftCorner> <TileWidth>256</TileWidth> <TileHeight>256</TileHeight>
<MatrixWidth>5</MatrixWidth> <MatrixHeight>3</MatrixHeight>
</TileMatrix>
<TileMatrix>
<ows:Identifier>4</ows:Identifier>
<ScaleDenominator>1.7441124284978144E7</ScaleDenominator>
<TopLeftCorner>-3.2156885521989845E7 1.7674071129764907E7</TopLeftCorner> <TileWidth>256</TileWidth> <TileHeight>256</TileHeight>
<MatrixWidth>9</MatrixWidth> <MatrixHeight>5</MatrixHeight>
</TileMatrix>
<TileMatrix>
<ows:Identifier>5</ows:Identifier>
<ScaleDenominator>8720562.142489072</ScaleDenominator>
<TopLeftCorner>-3.2156885521989845E7 1.7674071129764907E7</TopLeftCorner> <TileWidth>256</TileWidth> <TileHeight>256</TileHeight>
<MatrixWidth>17</MatrixWidth> <MatrixHeight>9</MatrixHeight>
</TileMatrix>
<TileMatrix>
<ows:Identifier>6</ows:Identifier>
<ScaleDenominator>4360281.071244536</ScaleDenominator>
<TopLeftCorner>-3.2156885521989845E7 1.7674071129764907E7</TopLeftCorner> <TileWidth>256</TileWidth> <TileHeight>256</TileHeight>
<MatrixWidth>33</MatrixWidth> <MatrixHeight>17</MatrixHeight>
</TileMatrix>
<TileMatrix>
<ows:Identifier>7</ows:Identifier>
<ScaleDenominator>2180140.535622268</ScaleDenominator>
<TopLeftCorner>-3.2156885521989845E7 1.7674071129764907E7</TopLeftCorner> <TileWidth>256</TileWidth> <TileHeight>256</TileHeight>
<MatrixWidth>65</MatrixWidth> <MatrixHeight>34</MatrixHeight>
</TileMatrix>
<TileMatrix>
<ows:Identifier>8</ows:Identifier>
<ScaleDenominator>1090070.267811134</ScaleDenominator>
<TopLeftCorner>-3.2156885521989845E7 1.7674071129764907E7</TopLeftCorner> <TileWidth>256</TileWidth> <TileHeight>256</TileHeight>
<MatrixWidth>129</MatrixWidth> <MatrixHeight>67</MatrixHeight>
</TileMatrix>
<TileMatrix>
<ows:Identifier>9</ows:Identifier>
<ScaleDenominator>545035.133905567</ScaleDenominator>
<TopLeftCorner>-3.2156885521989845E7 1.7674071129764907E7</TopLeftCorner> <TileWidth>256</TileWidth> <TileHeight>256</TileHeight>
<MatrixWidth>258</MatrixWidth> <MatrixHeight>133</MatrixHeight>
</TileMatrix>
<TileMatrix>
<ows:Identifier>10</ows:Identifier>
<ScaleDenominator>272517.5669527835</ScaleDenominator>
<TopLeftCorner>-3.2156885521989845E7 1.7674071129764907E7</TopLeftCorner> <TileWidth>256</TileWidth> <TileHeight>256</TileHeight>
<MatrixWidth>516</MatrixWidth> <MatrixHeight>265</MatrixHeight>
</TileMatrix>
<TileMatrix>
<ows:Identifier>11</ows:Identifier>
<ScaleDenominator>136258.78347639175</ScaleDenominator>
<TopLeftCorner>-3.2156885521989845E7 1.7674071129764907E7</TopLeftCorner> <TileWidth>256</TileWidth> <TileHeight>256</TileHeight>
<MatrixWidth>1031</MatrixWidth> <MatrixHeight>529</MatrixHeight>
</TileMatrix>
<TileMatrix>
<ows:Identifier>12</ows:Identifier>
<ScaleDenominator>68129.39173819587</ScaleDenominator>
<TopLeftCorner>-3.2156885521989845E7 1.7674071129764907E7</TopLeftCorner> <TileWidth>256</TileWidth> <TileHeight>256</TileHeight>
<MatrixWidth>2061</MatrixWidth> <MatrixHeight>1058</MatrixHeight>
</TileMatrix>
<TileMatrix>
<ows:Identifier>13</ows:Identifier>
<ScaleDenominator>34064.69586909794</ScaleDenominator>
<TopLeftCorner>-3.2156885521989845E7 1.7674071129764907E7</TopLeftCorner> <TileWidth>256</TileWidth> <TileHeight>256</TileHeight>
<MatrixWidth>4121</MatrixWidth> <MatrixHeight>2116</MatrixHeight>
</TileMatrix>
<TileMatrix>
<ows:Identifier>14</ows:Identifier>
<ScaleDenominator>17032.34793454897</ScaleDenominator>
<TopLeftCorner>-3.2156885521989845E7 1.7674071129764907E7</TopLeftCorner> <TileWidth>256</TileWidth> <TileHeight>256</TileHeight>
<MatrixWidth>8242</MatrixWidth> <MatrixHeight>4232</MatrixHeight>
</TileMatrix>
<TileMatrix>
<ows:Identifier>15</ows:Identifier>
<ScaleDenominator>8516.173967274484</ScaleDenominator>
<TopLeftCorner>-3.2156885521989845E7 1.7674071129764907E7</TopLeftCorner> <TileWidth>256</TileWidth> <TileHeight>256</TileHeight>
<MatrixWidth>16484</MatrixWidth> <MatrixHeight>8463</MatrixHeight>
</TileMatrix>
<TileMatrix>
<ows:Identifier>16</ows:Identifier>
<ScaleDenominator>4258.086983637242</ScaleDenominator>
<TopLeftCorner>-3.2156885521989845E7 1.7674071129764907E7</TopLeftCorner> <TileWidth>256</TileWidth> <TileHeight>256</TileHeight>
<MatrixWidth>32968</MatrixWidth> <MatrixHeight>16926</MatrixHeight>
</TileMatrix>
<TileMatrix>
<ows:Identifier>17</ows:Identifier>
<ScaleDenominator>2129.043491818621</ScaleDenominator>
<TopLeftCorner>-3.2156885521989845E7 1.7674071129764907E7</TopLeftCorner> <TileWidth>256</TileWidth> <TileHeight>256</TileHeight>
<MatrixWidth>65935</MatrixWidth> <MatrixHeight>33851</MatrixHeight>
</TileMatrix>
<TileMatrix>
<ows:Identifier>18</ows:Identifier>
<ScaleDenominator>1064.5217459093105</ScaleDenominator>
<TopLeftCorner>-3.2156885521989845E7 1.7674071129764907E7</TopLeftCorner> <TileWidth>256</TileWidth> <TileHeight>256</TileHeight>
<MatrixWidth>131869</MatrixWidth> <MatrixHeight>67702</MatrixHeight>
</TileMatrix>
<TileMatrix>
<ows:Identifier>19</ows:Identifier>
<ScaleDenominator>532.2608729546553</ScaleDenominator>
<TopLeftCorner>-3.2156885521989845E7 1.7674071129764907E7</TopLeftCorner> <TileWidth>256</TileWidth> <TileHeight>256</TileHeight>
<MatrixWidth>263738</MatrixWidth> <MatrixHeight>135403</MatrixHeight>
</TileMatrix>
<TileMatrix>
<ows:Identifier>20</ows:Identifier>
<ScaleDenominator>266.13043647732763</ScaleDenominator>
<TopLeftCorner>-3.2156885521989845E7 1.7674071129764907E7</TopLeftCorner> <TileWidth>256</TileWidth> <TileHeight>256</TileHeight>
<MatrixWidth>527475</MatrixWidth> <MatrixHeight>270806</MatrixHeight>
</TileMatrix>
<TileMatrix>
<ows:Identifier>21</ows:Identifier>
<ScaleDenominator>133.06521823866382</ScaleDenominator>
<TopLeftCorner>-3.2156885521989845E7 1.7674071129764907E7</TopLeftCorner> <TileWidth>256</TileWidth> <TileHeight>256</TileHeight>
<MatrixWidth>1054950</MatrixWidth> <MatrixHeight>541611</MatrixHeight>
</TileMatrix>
<TileMatrix>
<ows:Identifier>22</ows:Identifier>
<ScaleDenominator>66.53260911933191</ScaleDenominator>
<TopLeftCorner>-3.2156885521989845E7 1.7674071129764907E7</TopLeftCorner> <TileWidth>256</TileWidth> <TileHeight>256</TileHeight>
<MatrixWidth>2109900</MatrixWidth> <MatrixHeight>1083222</MatrixHeight>
</TileMatrix>
<TileMatrix>
<ows:Identifier>23</ows:Identifier>
<ScaleDenominator>33.266304559665954</ScaleDenominator>
<TopLeftCorner>-3.2156885521989845E7 1.7674071129764907E7</TopLeftCorner> <TileWidth>256</TileWidth> <TileHeight>256</TileHeight>
<MatrixWidth>4219800</MatrixWidth> <MatrixHeight>2166443</MatrixHeight>
</TileMatrix>
</TileMatrixSet>
</Contents>
<ServiceMetadataURL xlink:href="https://madison.rexburg.org/mrgis/rest/services/aerialImagery/2026_SP/MapServer/WMTS/1.0.0/WMTSCapabilities.xml" /> </Capabilities>
