{ "currentVersion": 11.5, "cimVersion": "3.5.0", "serviceDescription": "
Projection: East Idaho State Plane<\/span><\/p> Date: Photography flown March-April 2026<\/span><\/p> Units: US Survey Foot<\/span><\/p> Eagleview<\/span><\/p><\/div><\/div><\/div>",
"mapName": "2026_SP",
"description": "Projection: East Idaho State PlaneDate: Photography flown March-April 2026Units: US Survey FootEagleview",
"copyrightText": "MRGIS",
"supportsDynamicLayers": true,
"layers": [
{
"id": 0,
"name": "Aerial2026_SIDS",
"parentLayerId": -1,
"defaultVisibility": true,
"subLayerIds": [
1,
2,
3
],
"minScale": 0,
"maxScale": 0,
"type": "Mosaic Layer",
"supportsDynamicLegends": false
},
{
"id": 1,
"name": "Boundary",
"parentLayerId": 0,
"defaultVisibility": false,
"subLayerIds": null,
"minScale": 0,
"maxScale": 0,
"type": "Feature Layer",
"geometryType": "esriGeometryPolygon",
"supportsDynamicLegends": true
},
{
"id": 2,
"name": "Footprint",
"parentLayerId": 0,
"defaultVisibility": false,
"subLayerIds": null,
"minScale": 0,
"maxScale": 0,
"type": "Feature Layer",
"geometryType": "esriGeometryPolygon",
"supportsDynamicLegends": true
},
{
"id": 3,
"name": "Image",
"parentLayerId": 0,
"defaultVisibility": true,
"subLayerIds": null,
"minScale": 0,
"maxScale": 0,
"type": "Raster Layer",
"supportsDynamicLegends": true
}
],
"tables": [],
"spatialReference": {
"wkid": 103032,
"latestWkid": 6451,
"xyTolerance": 0.003280833333333333,
"zTolerance": 0.001,
"mTolerance": 0.001,
"falseX": -17791400,
"falseY": -47952400,
"xyUnits": 3048.0060960121928,
"falseZ": -100000,
"zUnits": 10000,
"falseM": -100000,
"mUnits": 10000
},
"singleFusedMapCache": true,
"tileInfo": {
"rows": 256,
"cols": 256,
"dpi": 96,
"format": "Mixed",
"compressionQuality": 75,
"origin": {
"x": -3.2156885521989845E7,
"y": 1.7674071129764907E7
},
"spatialReference": {
"wkid": 103032,
"latestWkid": 6451,
"xyTolerance": 0.003280833333333333,
"zTolerance": 0.001,
"mTolerance": 0.001,
"falseX": -17791400,
"falseY": -47952400,
"xyUnits": 3048.0060960121928,
"falseZ": -100000,
"zUnits": 10000,
"falseM": -100000,
"mUnits": 10000
},
"lods": [
{
"level": 0,
"resolution": 256351.970223879,
"scale": 2.9531806033402926E8
},
{
"level": 1,
"resolution": 128175.9851119395,
"scale": 1.4765903016701463E8
},
{
"level": 2,
"resolution": 64087.99255596975,
"scale": 7.382951508350731E7
},
{
"level": 3,
"resolution": 32043.996277984876,
"scale": 3.691475754175366E7
},
{
"level": 4,
"resolution": 16021.998138992438,
"scale": 1.845737877087683E7
},
{
"level": 5,
"resolution": 8010.999069496219,
"scale": 9228689.385438414
},
{
"level": 6,
"resolution": 4005.4995347481095,
"scale": 4614344.692719207
},
{
"level": 7,
"resolution": 2002.7497673740547,
"scale": 2307172.3463596036
},
{
"level": 8,
"resolution": 1001.3748836870274,
"scale": 1153586.1731798018
},
{
"level": 9,
"resolution": 500.6874418435137,
"scale": 576793.0865899009
},
{
"level": 10,
"resolution": 250.34372092175684,
"scale": 288396.54329495045
},
{
"level": 11,
"resolution": 125.17186046087842,
"scale": 144198.27164747522
},
{
"level": 12,
"resolution": 62.58593023043921,
"scale": 72099.13582373761
},
{
"level": 13,
"resolution": 31.292965115219605,
"scale": 36049.567911868806
},
{
"level": 14,
"resolution": 15.646482557609803,
"scale": 18024.783955934403
},
{
"level": 15,
"resolution": 7.823241278804901,
"scale": 9012.391977967201
},
{
"level": 16,
"resolution": 3.9116206394024506,
"scale": 4506.195988983601
},
{
"level": 17,
"resolution": 1.9558103197012253,
"scale": 2253.0979944918004
},
{
"level": 18,
"resolution": 0.9779051598506127,
"scale": 1126.5489972459002
},
{
"level": 19,
"resolution": 0.48895257992530633,
"scale": 563.2744986229501
},
{
"level": 20,
"resolution": 0.24447628996265316,
"scale": 281.63724931147505
},
{
"level": 21,
"resolution": 0.12223814498132658,
"scale": 140.81862465573752
},
{
"level": 22,
"resolution": 0.06111907249066329,
"scale": 70.40931232786876
},
{
"level": 23,
"resolution": 0.030559536245331646,
"scale": 35.20465616393438
}
]
},
"storageInfo": {
"storageFormat": "esriMapCacheStorageModeCompactV2",
"packetSize": 128
},
"initialExtent": {
"xmin": 694590.5889357231,
"ymin": 720456.004064764,
"xmax": 863537.4048972987,
"ymax": 830807.9996506836,
"spatialReference": {
"wkid": 103032,
"latestWkid": 6451,
"xyTolerance": 0.003280833333333333,
"zTolerance": 0.001,
"mTolerance": 0.001,
"falseX": -17791400,
"falseY": -47952400,
"xyUnits": 3048.0060960121928,
"falseZ": -100000,
"zUnits": 10000,
"falseM": -100000,
"mUnits": 10000
}
},
"fullExtent": {
"xmin": 702503.9999789111,
"ymin": 725472.0000324026,
"xmax": 855623.9995125793,
"ymax": 825791.9998513237,
"spatialReference": {
"wkid": 103032,
"latestWkid": 6451,
"xyTolerance": 0.003280833333333333,
"zTolerance": 0.001,
"mTolerance": 0.001,
"falseX": -17791400,
"falseY": -47952400,
"xyUnits": 3048.0060960121928,
"falseZ": -100000,
"zUnits": 10000,
"falseM": -100000,
"mUnits": 10000
}
},
"datesInUnknownTimezone": false,
"minScale": 576793.0865899009,
"maxScale": 70.40931232786876,
"units": "esriFeet",
"supportedImageFormatTypes": "PNG32,PNG24,PNG,JPG,DIB,TIFF,EMF,PS,PDF,GIF,SVG,SVGZ,BMP",
"documentInfo": {
"Title": "2026_SP",
"Author": "",
"Comments": "Projection: East Idaho State PlaneDate: Photography flown March-April 2026Units: US Survey FootEagleview",
"Subject": "2026 1\" and 3\" combined aerial in State Plane",
"Category": "",
"Version": "3.5.0",
"AntialiasingMode": "Fast",
"TextAntialiasingMode": "Force",
"Keywords": "MRGIS,Aerial"
},
"supportsQueryDomains": true,
"capabilities": "Query,Map,Data",
"supportedQueryFormats": "JSON, geoJSON, PBF",
"exportTilesAllowed": false,
"referenceScale": 0.0,
"datumTransformations": [
{
"geoTransforms": [
{
"wkid": 108363,
"latestWkid": 108363,
"transformForward": true,
"name": "WGS_1984_(ITRF08)_To_NAD_1983_2011"
}
]
},
{
"geoTransforms": [
{
"wkid": 108190,
"latestWkid": 108190,
"transformForward": false,
"name": "WGS_1984_(ITRF00)_To_NAD_1983"
},
{
"wkid": 108363,
"latestWkid": 108363,
"transformForward": true,
"name": "WGS_1984_(ITRF08)_To_NAD_1983_2011"
}
]
}
],
"supportsDatumTransformation": true,
"floorAwareMapProperties": {
"defaultFloorFilterSettings": {"isEnabled": false}
},
"archivingInfo": {"supportsHistoricMoment": false},
"supportsClipping": true,
"supportsSpatialFilter": true,
"supportsTimeRelation": true,
"supportsQueryDataElements": true,
"mapUnits": {"uwkid": 9003},
"maxSelectionCount": 2000,
"maxRecordCount": 2000,
"maxImageHeight": 4096,
"maxImageWidth": 4096,
"supportedExtensions": "",
"serviceItemId": "5e87d8d1a30242df872318fbc310c048"
}