{
 "currentVersion": 11.5,
 "cimVersion": "3.5.0",
 "serviceDescription": "Projection: IdahoEast_StatePlane_NAD83 \nDate of Photography: 05/29/2017 \nUnits: US Survey Foot \nAero-Graphics\n",
 "mapName": "Layers",
 "description": "",
 "copyrightText": "MRGIS",
 "supportsDynamicLayers": true,
 "layers": [
  {
   "id": 0,
   "name": "Mosaic2017TestSP",
   "parentLayerId": -1,
   "defaultVisibility": true,
   "subLayerIds": [
    1,
    2,
    3
   ],
   "minScale": 0,
   "maxScale": 0,
   "type": "Mosaic Layer",
   "supportsDynamicLegends": false
  },
  {
   "id": 1,
   "name": "Boundary",
   "parentLayerId": 0,
   "defaultVisibility": false,
   "subLayerIds": null,
   "minScale": 0,
   "maxScale": 0,
   "type": "Feature Layer",
   "geometryType": "esriGeometryPolygon",
   "supportsDynamicLegends": true
  },
  {
   "id": 2,
   "name": "Footprint",
   "parentLayerId": 0,
   "defaultVisibility": false,
   "subLayerIds": null,
   "minScale": 0,
   "maxScale": 0,
   "type": "Feature Layer",
   "geometryType": "esriGeometryPolygon",
   "supportsDynamicLegends": true
  },
  {
   "id": 3,
   "name": "Image",
   "parentLayerId": 0,
   "defaultVisibility": true,
   "subLayerIds": null,
   "minScale": 0,
   "maxScale": 0,
   "type": "Raster Layer",
   "supportsDynamicLegends": true
  }
 ],
 "tables": [],
 "spatialReference": {
  "wkid": 102668,
  "latestWkid": 2241,
  "xyTolerance": 0.003280833333333333,
  "zTolerance": 0.001,
  "mTolerance": 0.001,
  "falseX": -17791400,
  "falseY": -47952400,
  "xyUnits": 1.3724858639888507E8,
  "falseZ": -100000,
  "zUnits": 10000,
  "falseM": -100000,
  "mUnits": 10000
 },
 "singleFusedMapCache": true,
 "tileInfo": {
  "rows": 256,
  "cols": 256,
  "dpi": 192,
  "format": "MIXED",
  "compressionQuality": 75,
  "origin": {
   "x": -17791400,
   "y": 1.7674499999999993E7
  },
  "spatialReference": {
   "wkid": 102668,
   "latestWkid": 2241,
   "xyTolerance": 0.003280833333333333,
   "zTolerance": 0.001,
   "mTolerance": 0.001,
   "falseX": -17791400,
   "falseY": -47952400,
   "xyUnits": 1.3724858639888507E8,
   "falseZ": -100000,
   "zUnits": 10000,
   "falseM": -100000,
   "mUnits": 10000
  },
  "lods": [
   {
    "level": 0,
    "resolution": 250.7771502986111,
    "scale": 577790.554288
   },
   {
    "level": 1,
    "resolution": 125.38857514930555,
    "scale": 288895.277144
   },
   {
    "level": 2,
    "resolution": 62.694287574652776,
    "scale": 144447.638572
   },
   {
    "level": 3,
    "resolution": 31.347143787326388,
    "scale": 72223.819286
   },
   {
    "level": 4,
    "resolution": 15.673571893663194,
    "scale": 36111.909643
   },
   {
    "level": 5,
    "resolution": 7.836785947048611,
    "scale": 18055.954822
   },
   {
    "level": 6,
    "resolution": 3.9183929735243055,
    "scale": 9027.977411
   },
   {
    "level": 7,
    "resolution": 1.9591964865451388,
    "scale": 4513.988705
   },
   {
    "level": 8,
    "resolution": 0.9795982434895834,
    "scale": 2256.994353
   },
   {
    "level": 9,
    "resolution": 0.48979912152777777,
    "scale": 1128.497176
   },
   {
    "level": 10,
    "resolution": 0.24489956076388888,
    "scale": 564.248588
   },
   {
    "level": 11,
    "resolution": 0.12244977213541666,
    "scale": 282.124275
   },
   {
    "level": 12,
    "resolution": 0.06122489019097222,
    "scale": 141.062147
   }
  ]
 },
 "storageInfo": {
  "storageFormat": "esriMapCacheStorageModeCompactV2",
  "packetSize": 128
 },
 "initialExtent": {
  "xmin": 679064.1032736535,
  "ymin": 721605.1367653579,
  "xmax": 938142.6789537872,
  "ymax": 845025.1368897596,
  "spatialReference": {
   "wkid": 102668,
   "latestWkid": 2241,
   "xyTolerance": 0.003280833333333333,
   "zTolerance": 0.001,
   "mTolerance": 0.001,
   "falseX": -17791400,
   "falseY": -47952400,
   "xyUnits": 1.3724858639888507E8,
   "falseZ": -100000,
   "zUnits": 10000,
   "falseM": -100000,
   "mUnits": 10000
  }
 },
 "fullExtent": {
  "xmin": 704462.9999979138,
  "ymin": 714717.9998869076,
  "xmax": 858963.0000524138,
  "ymax": 826918,
  "spatialReference": {
   "wkid": 102668,
   "latestWkid": 2241,
   "xyTolerance": 0.003280833333333333,
   "zTolerance": 0.001,
   "mTolerance": 0.001,
   "falseX": -17791400,
   "falseY": -47952400,
   "xyUnits": 1.3724858639888507E8,
   "falseZ": -100000,
   "zUnits": 10000,
   "falseM": -100000,
   "mUnits": 10000
  }
 },
 "datesInUnknownTimezone": false,
 "minScale": 577790.554288,
 "maxScale": 141.062147,
 "units": "esriFeet",
 "supportedImageFormatTypes": "PNG32,PNG24,PNG,JPG,DIB,TIFF,EMF,PS,PDF,GIF,SVG,SVGZ,BMP",
 "documentInfo": {
  "Title": "M2017C_SP2",
  "Author": "MRGIS",
  "Comments": "Projection: IdahoEast_StatePlane_NAD83 \nDate of Photography: 05/29/2017 \nUnits: US Survey Foot \nAero-Graphics\n",
  "Subject": "2017 3\u201d in State Plane",
  "Category": "",
  "Version": "10.1",
  "AntialiasingMode": "None",
  "TextAntialiasingMode": "Force",
  "Keywords": "Madison County,Idaho,2017"
 },
 "supportsQueryDomains": true,
 "capabilities": "Map,Query,Data",
 "supportedQueryFormats": "JSON, geoJSON, PBF",
 "exportTilesAllowed": false,
 "referenceScale": 0.0,
 "supportsDatumTransformation": true,
 "archivingInfo": {
  "supportsHistoricMoment": false
 },
 "supportsClipping": true,
 "supportsSpatialFilter": true,
 "supportsTimeRelation": true,
 "supportsQueryDataElements": true,
 "mapUnits": {
  "uwkid": 9003
 },
 "maxSelectionCount": 2000,
 "maxRecordCount": 1000,
 "maxImageHeight": 4096,
 "maxImageWidth": 4096,
 "supportedExtensions": "",
 "serviceItemId": "93f30e7697744b889d2195d57484e5c2"
}
