{
 "currentVersion": 11.5,
 "cimVersion": "3.5.0",
 "serviceDescription": "2002 Image in Web Mercator",
 "mapName": "Layers",
 "description": "",
 "copyrightText": "MRGIS",
 "supportsDynamicLayers": true,
 "layers": [
  {
   "id": 0,
   "name": "R_2002BW_WM",
   "parentLayerId": -1,
   "defaultVisibility": true,
   "subLayerIds": [
    1,
    2,
    3
   ],
   "minScale": 0,
   "maxScale": 0,
   "type": "Mosaic Layer",
   "supportsDynamicLegends": false
  },
  {
   "id": 1,
   "name": "Boundary",
   "parentLayerId": 0,
   "defaultVisibility": false,
   "subLayerIds": null,
   "minScale": 0,
   "maxScale": 0,
   "type": "Feature Layer",
   "geometryType": "esriGeometryPolygon",
   "supportsDynamicLegends": true
  },
  {
   "id": 2,
   "name": "Footprint",
   "parentLayerId": 0,
   "defaultVisibility": false,
   "subLayerIds": null,
   "minScale": 0,
   "maxScale": 0,
   "type": "Feature Layer",
   "geometryType": "esriGeometryPolygon",
   "supportsDynamicLegends": true
  },
  {
   "id": 3,
   "name": "Image",
   "parentLayerId": 0,
   "defaultVisibility": true,
   "subLayerIds": null,
   "minScale": 0,
   "maxScale": 0,
   "type": "Raster Layer",
   "supportsDynamicLegends": true
  }
 ],
 "tables": [],
 "spatialReference": {
  "wkid": 102100,
  "latestWkid": 3857,
  "xyTolerance": 0.001,
  "zTolerance": 0.001,
  "mTolerance": 0.001,
  "falseX": -20037700,
  "falseY": -30241100,
  "xyUnits": 1.4892314192838538E8,
  "falseZ": -100000,
  "zUnits": 10000,
  "falseM": -100000,
  "mUnits": 10000
 },
 "singleFusedMapCache": true,
 "tileInfo": {
  "rows": 256,
  "cols": 256,
  "dpi": 192,
  "format": "MIXED",
  "compressionQuality": 75,
  "origin": {
   "x": -20037700,
   "y": 30241100
  },
  "spatialReference": {
   "wkid": 102100,
   "latestWkid": 3857,
   "xyTolerance": 0.001,
   "zTolerance": 0.001,
   "mTolerance": 0.001,
   "falseX": -20037700,
   "falseY": -30241100,
   "xyUnits": 1.4892314192838538E8,
   "falseZ": -100000,
   "zUnits": 10000,
   "falseM": -100000,
   "mUnits": 10000
  },
  "lods": [
   {
    "level": 0,
    "resolution": 76.43702828507324,
    "scale": 577790.554288
   },
   {
    "level": 1,
    "resolution": 38.21851414253662,
    "scale": 288895.277144
   },
   {
    "level": 2,
    "resolution": 19.10925707126831,
    "scale": 144447.638572
   },
   {
    "level": 3,
    "resolution": 9.554628535634155,
    "scale": 72223.819286
   },
   {
    "level": 4,
    "resolution": 4.7773142678170775,
    "scale": 36111.909643
   },
   {
    "level": 5,
    "resolution": 2.388657133974685,
    "scale": 18055.954822
   },
   {
    "level": 6,
    "resolution": 1.1943285669873425,
    "scale": 9027.977411
   },
   {
    "level": 7,
    "resolution": 0.5971642834275251,
    "scale": 4513.988705
   },
   {
    "level": 8,
    "resolution": 0.2985821417799086,
    "scale": 2256.994353
   },
   {
    "level": 9,
    "resolution": 0.14929107082380833,
    "scale": 1128.497176
   },
   {
    "level": 10,
    "resolution": 0.07464553541190416,
    "scale": 564.248588
   },
   {
    "level": 11,
    "resolution": 0.03732276519240539,
    "scale": 282.124275
   },
   {
    "level": 12,
    "resolution": 0.01866138385297604,
    "scale": 141.062147
   }
  ]
 },
 "storageInfo": {
  "storageFormat": "esriMapCacheStorageModeCompactV2",
  "packetSize": 128
 },
 "initialExtent": {
  "xmin": -1.246388471158294E7,
  "ymin": 5429969.150048007,
  "xmax": -1.2426388454098996E7,
  "ymax": 5450169.014422654,
  "spatialReference": {
   "wkid": 102100,
   "latestWkid": 3857,
   "xyTolerance": 0.001,
   "zTolerance": 0.001,
   "mTolerance": 0.001,
   "falseX": -20037700,
   "falseY": -30241100,
   "xyUnits": 1.4892314192838538E8,
   "falseZ": -100000,
   "zUnits": 10000,
   "falseM": -100000,
   "mUnits": 10000
  }
 },
 "fullExtent": {
  "xmin": -1.24528660977E7,
  "ymin": 5418851.11754686,
  "xmax": -1.243740706798194E7,
  "ymax": 5448677.686,
  "spatialReference": {
   "wkid": 102100,
   "latestWkid": 3857,
   "xyTolerance": 0.001,
   "zTolerance": 0.001,
   "mTolerance": 0.001,
   "falseX": -20037700,
   "falseY": -30241100,
   "xyUnits": 1.4892314192838538E8,
   "falseZ": -100000,
   "zUnits": 10000,
   "falseM": -100000,
   "mUnits": 10000
  }
 },
 "datesInUnknownTimezone": false,
 "minScale": 144447.638572,
 "maxScale": 282.124275,
 "units": "esriMeters",
 "supportedImageFormatTypes": "PNG32,PNG24,PNG,JPG,DIB,TIFF,EMF,PS,PDF,GIF,SVG,SVGZ,BMP",
 "documentInfo": {
  "Title": "R2002BW_WM",
  "Author": "CJR",
  "Comments": "2002 Image in Web Mercator",
  "Subject": "Rexburg Orthophoto from 2002",
  "Category": "",
  "Version": "10.1",
  "AntialiasingMode": "None",
  "TextAntialiasingMode": "Force",
  "Keywords": "City of Rexburg,Idaho,Ortho Imagery,2002,Web Mercator"
 },
 "supportsQueryDomains": true,
 "capabilities": "Map,Query,Data",
 "supportedQueryFormats": "JSON, geoJSON, PBF",
 "exportTilesAllowed": false,
 "referenceScale": 0.0,
 "supportsDatumTransformation": true,
 "archivingInfo": {
  "supportsHistoricMoment": false
 },
 "supportsClipping": true,
 "supportsSpatialFilter": true,
 "supportsTimeRelation": true,
 "supportsQueryDataElements": true,
 "mapUnits": {
  "uwkid": 9001
 },
 "maxSelectionCount": 2000,
 "maxRecordCount": 1000,
 "maxImageHeight": 4096,
 "maxImageWidth": 4096,
 "supportedExtensions": "",
 "resampling": false,
 "serviceItemId": "0ee175869c644572a057b9128f80e599"
}
