{
 "currentVersion": 11.5,
 "cimVersion": "3.5.0",
 "serviceDescription": "2012 3\" Image in Web Mercator",
 "mapName": "Layers",
 "description": "",
 "copyrightText": "MRGIS, City of Rexburg",
 "supportsDynamicLayers": true,
 "layers": [
  {
   "id": 0,
   "name": "R2012C_WM",
   "parentLayerId": -1,
   "defaultVisibility": true,
   "subLayerIds": null,
   "minScale": 0,
   "maxScale": 0,
   "type": "Raster Layer",
   "supportsDynamicLegends": true
  }
 ],
 "tables": [],
 "spatialReference": {
  "wkid": 102100,
  "latestWkid": 3857,
  "xyTolerance": 0.001,
  "zTolerance": 0.001,
  "mTolerance": 0.001,
  "falseX": -20037700,
  "falseY": -30241100,
  "xyUnits": 1.4892314192838538E8,
  "falseZ": -100000,
  "zUnits": 10000,
  "falseM": -100000,
  "mUnits": 10000
 },
 "singleFusedMapCache": true,
 "tileInfo": {
  "rows": 256,
  "cols": 256,
  "dpi": 192,
  "format": "MIXED",
  "compressionQuality": 75,
  "origin": {
   "x": -20037700,
   "y": 30241100
  },
  "spatialReference": {
   "wkid": 102100,
   "latestWkid": 3857,
   "xyTolerance": 0.001,
   "zTolerance": 0.001,
   "mTolerance": 0.001,
   "falseX": -20037700,
   "falseY": -30241100,
   "xyUnits": 1.4892314192838538E8,
   "falseZ": -100000,
   "zUnits": 10000,
   "falseM": -100000,
   "mUnits": 10000
  },
  "lods": [
   {
    "level": 0,
    "resolution": 19.10925707126831,
    "scale": 144447.638572
   },
   {
    "level": 1,
    "resolution": 9.554628535634155,
    "scale": 72223.819286
   },
   {
    "level": 2,
    "resolution": 4.7773142678170775,
    "scale": 36111.909643
   },
   {
    "level": 3,
    "resolution": 2.388657133974685,
    "scale": 18055.954822
   },
   {
    "level": 4,
    "resolution": 1.1943285669873425,
    "scale": 9027.977411
   },
   {
    "level": 5,
    "resolution": 0.5971642834275251,
    "scale": 4513.988705
   },
   {
    "level": 6,
    "resolution": 0.2985821417799086,
    "scale": 2256.994353
   },
   {
    "level": 7,
    "resolution": 0.14929107082380833,
    "scale": 1128.497176
   },
   {
    "level": 8,
    "resolution": 0.07464553541190416,
    "scale": 564.248588
   },
   {
    "level": 9,
    "resolution": 0.03732276519240539,
    "scale": 282.124275
   },
   {
    "level": 10,
    "resolution": 0.01866138385297604,
    "scale": 141.062147
   }
  ]
 },
 "storageInfo": {
  "storageFormat": "esriMapCacheStorageModeCompactV2",
  "packetSize": 128
 },
 "initialExtent": {
  "xmin": -1.2454926547354773E7,
  "ymin": 5437393.66531183,
  "xmax": -1.2431008166184679E7,
  "ymax": 5450278.899415631,
  "spatialReference": {
   "wkid": 102100,
   "latestWkid": 3857,
   "xyTolerance": 0.001,
   "zTolerance": 0.001,
   "mTolerance": 0.001,
   "falseX": -20037700,
   "falseY": -30241100,
   "xyUnits": 1.4892314192838538E8,
   "falseZ": -100000,
   "zUnits": 10000,
   "falseM": -100000,
   "mUnits": 10000
  }
 },
 "fullExtent": {
  "xmin": -1.2449340805630954E7,
  "ymin": 5432366.712323089,
  "xmax": -1.2437451676852696E7,
  "ymax": 5448630.644250953,
  "spatialReference": {
   "wkid": 102100,
   "latestWkid": 3857,
   "xyTolerance": 0.001,
   "zTolerance": 0.001,
   "mTolerance": 0.001,
   "falseX": -20037700,
   "falseY": -30241100,
   "xyUnits": 1.4892314192838538E8,
   "falseZ": -100000,
   "zUnits": 10000,
   "falseM": -100000,
   "mUnits": 10000
  }
 },
 "datesInUnknownTimezone": false,
 "minScale": 144447.638572,
 "maxScale": 141.062147,
 "units": "esriMeters",
 "supportedImageFormatTypes": "PNG32,PNG24,PNG,JPG,DIB,TIFF,EMF,PS,PDF,GIF,SVG,SVGZ,BMP",
 "documentInfo": {
  "Title": "aiR2012C_WM",
  "Author": "Craig",
  "Comments": "2012 3\" Image in Web Mercator",
  "Subject": "Rexburg Color Orthophoto from 2012",
  "Category": "",
  "Version": "10.1",
  "AntialiasingMode": "None",
  "TextAntialiasingMode": "Force",
  "Keywords": "2012,City of Rexburg,Color Ortho Imagery"
 },
 "supportsQueryDomains": true,
 "capabilities": "Map,Query,Data",
 "supportedQueryFormats": "JSON, geoJSON, PBF",
 "exportTilesAllowed": false,
 "referenceScale": 0.0,
 "supportsDatumTransformation": true,
 "archivingInfo": {
  "supportsHistoricMoment": false
 },
 "supportsClipping": true,
 "supportsSpatialFilter": true,
 "supportsTimeRelation": true,
 "supportsQueryDataElements": true,
 "mapUnits": {
  "uwkid": 9001
 },
 "maxSelectionCount": 2000,
 "maxRecordCount": 1000,
 "maxImageHeight": 4096,
 "maxImageWidth": 4096,
 "supportedExtensions": "",
 "serviceItemId": "e3127c3894994a0a85e475a545876086"
}
