{
 "currentVersion": 11.5,
 "cimVersion": "3.5.0",
 "serviceDescription": "2015 3\" in State Plane",
 "mapName": "Layers",
 "description": "",
 "copyrightText": "MRGIS",
 "supportsDynamicLayers": true,
 "layers": [
  {
   "id": 0,
   "name": "R2015C_SP",
   "parentLayerId": -1,
   "defaultVisibility": true,
   "subLayerIds": null,
   "minScale": 0,
   "maxScale": 0,
   "type": "Raster Layer",
   "supportsDynamicLegends": true
  }
 ],
 "tables": [],
 "spatialReference": {
  "wkid": 102668,
  "latestWkid": 2241,
  "xyTolerance": 0.003280833333333333,
  "zTolerance": 0.001,
  "mTolerance": 0.001,
  "falseX": -17791400,
  "falseY": -47952400,
  "xyUnits": 1.3724858639888507E8,
  "falseZ": -100000,
  "zUnits": 10000,
  "falseM": -100000,
  "mUnits": 10000
 },
 "singleFusedMapCache": true,
 "tileInfo": {
  "rows": 256,
  "cols": 256,
  "dpi": 192,
  "format": "MIXED",
  "compressionQuality": 75,
  "origin": {
   "x": -17791400,
   "y": 17674500
  },
  "spatialReference": {
   "wkid": 102668,
   "latestWkid": 2241,
   "xyTolerance": 0.003280833333333333,
   "zTolerance": 0.001,
   "mTolerance": 0.001,
   "falseX": -17791400,
   "falseY": -47952400,
   "xyUnits": 1.3724858639888507E8,
   "falseZ": -100000,
   "zUnits": 10000,
   "falseM": -100000,
   "mUnits": 10000
  },
  "lods": [
   {
    "level": 0,
    "resolution": 250.7771502986111,
    "scale": 577790.554288
   },
   {
    "level": 1,
    "resolution": 125.38857514930555,
    "scale": 288895.277144
   },
   {
    "level": 2,
    "resolution": 62.694287574652776,
    "scale": 144447.638572
   },
   {
    "level": 3,
    "resolution": 31.347143787326388,
    "scale": 72223.819286
   },
   {
    "level": 4,
    "resolution": 15.673571893663194,
    "scale": 36111.909643
   },
   {
    "level": 5,
    "resolution": 7.836785947048611,
    "scale": 18055.954822
   },
   {
    "level": 6,
    "resolution": 3.9183929735243055,
    "scale": 9027.977411
   },
   {
    "level": 7,
    "resolution": 1.9591964865451388,
    "scale": 4513.988705
   },
   {
    "level": 8,
    "resolution": 0.9795982434895834,
    "scale": 2256.994353
   },
   {
    "level": 9,
    "resolution": 0.48979912152777777,
    "scale": 1128.497176
   },
   {
    "level": 10,
    "resolution": 0.24489956076388888,
    "scale": 564.248588
   },
   {
    "level": 11,
    "resolution": 0.12244977213541666,
    "scale": 282.124275
   },
   {
    "level": 12,
    "resolution": 0.06122489019097222,
    "scale": 141.062147
   }
  ]
 },
 "storageInfo": {
  "storageFormat": "esriMapCacheStorageModeCompactV2",
  "packetSize": 128
 },
 "initialExtent": {
  "xmin": 689068.9844536535,
  "ymin": 758461.4091936674,
  "xmax": 800397.1094536535,
  "ymax": 824542.1383603341,
  "spatialReference": {
   "wkid": 102668,
   "latestWkid": 2241,
   "xyTolerance": 0.003280833333333333,
   "zTolerance": 0.001,
   "mTolerance": 0.001,
   "falseX": -17791400,
   "falseY": -47952400,
   "xyUnits": 1.3724858639888507E8,
   "falseZ": -100000,
   "zUnits": 10000,
   "falseM": -100000,
   "mUnits": 10000
  }
 },
 "fullExtent": {
  "xmin": 704468.8452078573,
  "ymin": 726091.7101499278,
  "xmax": 775816.9159878574,
  "ymax": 824090.9941379278,
  "spatialReference": {
   "wkid": 102668,
   "latestWkid": 2241,
   "xyTolerance": 0.003280833333333333,
   "zTolerance": 0.001,
   "mTolerance": 0.001,
   "falseX": -17791400,
   "falseY": -47952400,
   "xyUnits": 1.3724858639888507E8,
   "falseZ": -100000,
   "zUnits": 10000,
   "falseM": -100000,
   "mUnits": 10000
  }
 },
 "datesInUnknownTimezone": false,
 "minScale": 577790.554288,
 "maxScale": 141.062147,
 "units": "esriFeet",
 "supportedImageFormatTypes": "PNG32,PNG24,PNG,JPG,DIB,TIFF,EMF,PS,PDF,GIF,SVG,SVGZ,BMP",
 "documentInfo": {
  "Title": "",
  "Author": "",
  "Comments": "2015 3\" in State Plane",
  "Subject": "Rexburg Color Orthophoto from 2015",
  "Category": "",
  "Version": "10.1",
  "AntialiasingMode": "None",
  "TextAntialiasingMode": "Force",
  "Keywords": "2015,City of Rexburg,Madison County,Idaho,Color Ortho Imagery"
 },
 "supportsQueryDomains": true,
 "capabilities": "Map,Query,Data",
 "supportedQueryFormats": "JSON, geoJSON, PBF",
 "exportTilesAllowed": false,
 "referenceScale": 0.0,
 "supportsDatumTransformation": true,
 "archivingInfo": {
  "supportsHistoricMoment": false
 },
 "supportsClipping": true,
 "supportsSpatialFilter": true,
 "supportsTimeRelation": true,
 "supportsQueryDataElements": true,
 "mapUnits": {
  "uwkid": 9003
 },
 "maxSelectionCount": 2000,
 "maxRecordCount": 1000,
 "maxImageHeight": 4096,
 "maxImageWidth": 4096,
 "supportedExtensions": "",
 "serviceItemId": "00ac7fe5f7bb4dc5b83953da64c88900"
}
